BEGIN:VCALENDAR
VERSION:2.0
PRODID:-//TTV Papendrecht - ECPv6.15.20//NONSGML v1.0//EN
CALSCALE:GREGORIAN
METHOD:PUBLISH
X-WR-CALNAME:TTV Papendrecht
X-ORIGINAL-URL:https://www.ttvpapendrecht.nl
X-WR-CALDESC:Evenementen voor TTV Papendrecht
REFRESH-INTERVAL;VALUE=DURATION:PT1H
X-Robots-Tag:noindex
X-PUBLISHED-TTL:PT1H
BEGIN:VTIMEZONE
TZID:Europe/Paris
BEGIN:DAYLIGHT
TZOFFSETFROM:+0100
TZOFFSETTO:+0200
TZNAME:CEST
DTSTART:20250330T010000
END:DAYLIGHT
BEGIN:STANDARD
TZOFFSETFROM:+0200
TZOFFSETTO:+0100
TZNAME:CET
DTSTART:20251026T010000
END:STANDARD
BEGIN:DAYLIGHT
TZOFFSETFROM:+0100
TZOFFSETTO:+0200
TZNAME:CEST
DTSTART:20260329T010000
END:DAYLIGHT
BEGIN:STANDARD
TZOFFSETFROM:+0200
TZOFFSETTO:+0100
TZNAME:CET
DTSTART:20261025T010000
END:STANDARD
BEGIN:DAYLIGHT
TZOFFSETFROM:+0100
TZOFFSETTO:+0200
TZNAME:CEST
DTSTART:20270328T010000
END:DAYLIGHT
BEGIN:STANDARD
TZOFFSETFROM:+0200
TZOFFSETTO:+0100
TZNAME:CET
DTSTART:20271031T010000
END:STANDARD
END:VTIMEZONE
BEGIN:VEVENT
DTSTART;TZID=Europe/Paris:20260324T200000
DTEND;TZID=Europe/Paris:20260324T233000
DTSTAMP:20260420T133541
CREATED:20260129T145905Z
LAST-MODIFIED:20260129T234441Z
UID:222-1774382400-1774395000@www.ttvpapendrecht.nl
SUMMARY:PAPENDRECHT 5 DUO - Sliedrecht Sport 5
DESCRIPTION:
URL:https://www.ttvpapendrecht.nl/event/papendrecht-5-duo-sliedrecht-sport-5-2026-03-24/
LOCATION:TTV Papendrecht\, Pieter Zeemanlaan 39\, Papendrecht\, 3356 BR
CATEGORIES:Competitie,Senioren Duo 5,Thuiswedstrijden
END:VEVENT
BEGIN:VEVENT
DTSTART;TZID=Europe/Paris:20260324T194500
DTEND;TZID=Europe/Paris:20260324T231500
DTSTAMP:20260420T133541
CREATED:20260129T145905Z
LAST-MODIFIED:20260129T234355Z
UID:223-1774381500-1774394100@www.ttvpapendrecht.nl
SUMMARY:DOING 2 - PAPENDRECHT 2 DUO
DESCRIPTION:
URL:https://www.ttvpapendrecht.nl/event/doing-2-papendrecht-2-duo-2026-03-24/
LOCATION:Sportvereniging Doing – Sportzaal Forelsloot 5 (Wijk 24)\, Forelsloot 5\, ZOETERMEER\, 2724 CA
CATEGORIES:Competitie,Senioren Duo 2,Uitwedstrijden
END:VEVENT
BEGIN:VEVENT
DTSTART;TZID=Europe/Paris:20260324T183000
DTEND;TZID=Europe/Paris:20260324T200000
DTSTAMP:20260420T133541
CREATED:20260129T155732Z
LAST-MODIFIED:20260129T210246Z
UID:2208-1774377000-1774382400@www.ttvpapendrecht.nl
SUMMARY:Jeugdtraining (Roberto den Hertog)
DESCRIPTION:
URL:https://www.ttvpapendrecht.nl/event/jeugdtraining-roberto-den-hertog-2026-03-24/
LOCATION:TTV Papendrecht\, Pieter Zeemanlaan 39\, Papendrecht\, 3356 BR
CATEGORIES:Training
END:VEVENT
BEGIN:VEVENT
DTSTART;TZID=Europe/Paris:20260324T000000
DTEND;TZID=Europe/Paris:20260324T235959
DTSTAMP:20260420T133541
CREATED:20260204T002850Z
LAST-MODIFIED:20260320T100615Z
UID:3685-1774310400-1774396799@www.ttvpapendrecht.nl
SUMMARY:Bar - Pieter de Graaff
DESCRIPTION:
URL:https://www.ttvpapendrecht.nl/event/bar-nog-niemand-8/
LOCATION:TTV Papendrecht\, Pieter Zeemanlaan 39\, Papendrecht\, 3356 BR
CATEGORIES:Bardienst
END:VEVENT
BEGIN:VEVENT
DTSTART;TZID=Europe/Paris:20260323T201500
DTEND;TZID=Europe/Paris:20260323T234500
DTSTAMP:20260420T133541
CREATED:20260129T145923Z
LAST-MODIFIED:20260129T234326Z
UID:2204-1774296900-1774309500@www.ttvpapendrecht.nl
SUMMARY:Salamanders 3 - PAPENDRECHT 1 DUO
DESCRIPTION:
URL:https://www.ttvpapendrecht.nl/event/salamanders-3-papendrecht-1-duo-2026-03-23/
LOCATION:TTV De Salamanders – Sport Wat hal Wateringen\, Veenbes 17\, WATERINGEN\, 2291 NT
CATEGORIES:Competitie,Senioren Duo 1,Uitwedstrijden
END:VEVENT
BEGIN:VEVENT
DTSTART;TZID=Europe/Paris:20260320T200000
DTEND;TZID=Europe/Paris:20260320T233000
DTSTAMP:20260420T133541
CREATED:20260129T155732Z
LAST-MODIFIED:20260129T210226Z
UID:216-1774036800-1774049400@www.ttvpapendrecht.nl
SUMMARY:Vrije training (senioren)
DESCRIPTION:
URL:https://www.ttvpapendrecht.nl/event/vrije-training-senioren-2026-03-20/
LOCATION:TTV Papendrecht\, Pieter Zeemanlaan 39\, Papendrecht\, 3356 BR
CATEGORIES:Training
END:VEVENT
BEGIN:VEVENT
DTSTART;TZID=Europe/Paris:20260320T200000
DTEND;TZID=Europe/Paris:20260320T233000
DTSTAMP:20260420T133541
CREATED:20260129T145923Z
LAST-MODIFIED:20260129T234625Z
UID:218-1774036800-1774049400@www.ttvpapendrecht.nl
SUMMARY:PAPENDRECHT 2 - DHC 4
DESCRIPTION:
URL:https://www.ttvpapendrecht.nl/event/papendrecht-2-dhc-4-2026-03-20/
LOCATION:TTV Papendrecht\, Pieter Zeemanlaan 39\, Papendrecht\, 3356 BR
CATEGORIES:Competitie,Senioren 2,Thuiswedstrijden
END:VEVENT
BEGIN:VEVENT
DTSTART;TZID=Europe/Paris:20260320T000000
DTEND;TZID=Europe/Paris:20260320T235959
DTSTAMP:20260420T133541
CREATED:20260204T002910Z
LAST-MODIFIED:20260320T095547Z
UID:3609-1773964800-1774051199@www.ttvpapendrecht.nl
SUMMARY:Bar - Niek van Westen
DESCRIPTION:
URL:https://www.ttvpapendrecht.nl/event/bar-pieter-de-graaff/
LOCATION:TTV Papendrecht\, Pieter Zeemanlaan 39\, Papendrecht\, 3356 BR
CATEGORIES:Bardienst
END:VEVENT
BEGIN:VEVENT
DTSTART;TZID=Europe/Paris:20260319T200000
DTEND;TZID=Europe/Paris:20260319T233000
DTSTAMP:20260420T133541
CREATED:20260129T145923Z
LAST-MODIFIED:20260129T234655Z
UID:212-1773950400-1773963000@www.ttvpapendrecht.nl
SUMMARY:Xerxes 6 - PAPENDRECHT 3
DESCRIPTION:
URL:https://www.ttvpapendrecht.nl/event/xerxes-6-papendrecht-3-2026-03-19/
LOCATION:RTTC Xerxes – School van Horizon en Accent\, Japarastraat 2\, Rotterdam\, 3029 NA
CATEGORIES:Competitie,Senioren 3,Uitwedstrijden
END:VEVENT
BEGIN:VEVENT
DTSTART;TZID=Europe/Paris:20260319T200000
DTEND;TZID=Europe/Paris:20260319T233000
DTSTAMP:20260420T133541
CREATED:20260129T145923Z
LAST-MODIFIED:20260129T234425Z
UID:2201-1773950400-1773963000@www.ttvpapendrecht.nl
SUMMARY:PAPENDRECHT 4 DUO - TTVA 5
DESCRIPTION:
URL:https://www.ttvpapendrecht.nl/event/papendrecht-4-duo-ttva-5-2026-03-19/
LOCATION:TTV Papendrecht\, Pieter Zeemanlaan 39\, Papendrecht\, 3356 BR
CATEGORIES:Competitie,Senioren Duo 4,Thuiswedstrijden
END:VEVENT
BEGIN:VEVENT
DTSTART;TZID=Europe/Paris:20260319T193000
DTEND;TZID=Europe/Paris:20260319T203000
DTSTAMP:20260420T133541
CREATED:20260129T155732Z
LAST-MODIFIED:20260130T233218Z
UID:2200-1773948600-1773952200@www.ttvpapendrecht.nl
SUMMARY:Jeugdtraining (Joël Scheurwater) - groep 1
DESCRIPTION:
URL:https://www.ttvpapendrecht.nl/event/jeugdtraining-joel-scheurwater-2026-03-19/
LOCATION:TTV Papendrecht\, Pieter Zeemanlaan 39\, Papendrecht\, 3356 BR
CATEGORIES:Training
END:VEVENT
BEGIN:VEVENT
DTSTART;TZID=Europe/Paris:20260319T183000
DTEND;TZID=Europe/Paris:20260319T193000
DTSTAMP:20260420T133541
CREATED:20260130T233534Z
LAST-MODIFIED:20260130T233535Z
UID:3455-1773945000-1773948600@www.ttvpapendrecht.nl
SUMMARY:Jeugdtraining (Joël Scheurwater) - groep 2
DESCRIPTION:
URL:https://www.ttvpapendrecht.nl/event/jeugdtraining-joel-scheurwater-groep-2-6/
LOCATION:TTV Papendrecht\, Pieter Zeemanlaan 39\, Papendrecht\, 3356 BR
CATEGORIES:Training
END:VEVENT
BEGIN:VEVENT
DTSTART;TZID=Europe/Paris:20260319T000000
DTEND;TZID=Europe/Paris:20260319T235959
DTSTAMP:20260420T133541
CREATED:20260204T002850Z
LAST-MODIFIED:20260312T220233Z
UID:3683-1773878400-1773964799@www.ttvpapendrecht.nl
SUMMARY:Bar - Colin Lodder
DESCRIPTION:
URL:https://www.ttvpapendrecht.nl/event/bar-nog-niemand-10/
LOCATION:TTV Papendrecht\, Pieter Zeemanlaan 39\, Papendrecht\, 3356 BR
CATEGORIES:Bardienst
END:VEVENT
BEGIN:VEVENT
DTSTART;TZID=Europe/Paris:20260317T200000
DTEND;TZID=Europe/Paris:20260317T233000
DTSTAMP:20260420T133541
CREATED:20260129T155732Z
LAST-MODIFIED:20260129T210219Z
UID:2197-1773777600-1773790200@www.ttvpapendrecht.nl
SUMMARY:Vrije training (senioren)
DESCRIPTION:
URL:https://www.ttvpapendrecht.nl/event/vrije-training-senioren-2026-03-17/
LOCATION:TTV Papendrecht\, Pieter Zeemanlaan 39\, Papendrecht\, 3356 BR
CATEGORIES:Training
END:VEVENT
BEGIN:VEVENT
DTSTART;TZID=Europe/Paris:20260317T200000
DTEND;TZID=Europe/Paris:20260317T233000
DTSTAMP:20260420T133541
CREATED:20260129T145922Z
LAST-MODIFIED:20260129T234326Z
UID:2198-1773777600-1773790200@www.ttvpapendrecht.nl
SUMMARY:PAPENDRECHT 1 DUO - ATTC EVO Tech-XL 1
DESCRIPTION:
URL:https://www.ttvpapendrecht.nl/event/papendrecht-1-duo-attc-evo-tech-xl-1-2026-03-17/
LOCATION:TTV Papendrecht\, Pieter Zeemanlaan 39\, Papendrecht\, 3356 BR
CATEGORIES:Competitie,Senioren Duo 1,Thuiswedstrijden
END:VEVENT
BEGIN:VEVENT
DTSTART;TZID=Europe/Paris:20260317T200000
DTEND;TZID=Europe/Paris:20260317T233000
DTSTAMP:20260420T133541
CREATED:20260129T145922Z
LAST-MODIFIED:20260129T234355Z
UID:2199-1773777600-1773790200@www.ttvpapendrecht.nl
SUMMARY:PAPENDRECHT 2 DUO - Combat 2
DESCRIPTION:
URL:https://www.ttvpapendrecht.nl/event/papendrecht-2-duo-combat-2-2026-03-17/
LOCATION:TTV Papendrecht\, Pieter Zeemanlaan 39\, Papendrecht\, 3356 BR
CATEGORIES:Competitie,Senioren Duo 2,Thuiswedstrijden
END:VEVENT
BEGIN:VEVENT
DTSTART;TZID=Europe/Paris:20260317T200000
DTEND;TZID=Europe/Paris:20260317T233000
DTSTAMP:20260420T133541
CREATED:20260129T145922Z
LAST-MODIFIED:20260129T234441Z
UID:210-1773777600-1773790200@www.ttvpapendrecht.nl
SUMMARY:Nileta 3 - PAPENDRECHT 5 DUO
DESCRIPTION:
URL:https://www.ttvpapendrecht.nl/event/nileta-3-papendrecht-5-duo-2026-03-17/
LOCATION:Nileta – Sporthal de Klipper\, Klipperstraat 20\, NIEUW LEKKERLAND\, 2957 EM
CATEGORIES:Competitie,Senioren Duo 5,Uitwedstrijden
END:VEVENT
BEGIN:VEVENT
DTSTART;TZID=Europe/Paris:20260317T183000
DTEND;TZID=Europe/Paris:20260317T200000
DTSTAMP:20260420T133541
CREATED:20260129T155732Z
LAST-MODIFIED:20260129T210212Z
UID:211-1773772200-1773777600@www.ttvpapendrecht.nl
SUMMARY:Jeugdtraining (Roberto den Hertog)
DESCRIPTION:
URL:https://www.ttvpapendrecht.nl/event/jeugdtraining-roberto-den-hertog-2026-03-17/
LOCATION:TTV Papendrecht\, Pieter Zeemanlaan 39\, Papendrecht\, 3356 BR
CATEGORIES:Training
END:VEVENT
BEGIN:VEVENT
DTSTART;TZID=Europe/Paris:20260317T000000
DTEND;TZID=Europe/Paris:20260317T235959
DTSTAMP:20260420T133541
CREATED:20260204T002910Z
LAST-MODIFIED:20260204T002910Z
UID:3626-1773705600-1773791999@www.ttvpapendrecht.nl
SUMMARY:Bar - Guido Houwing
DESCRIPTION:
URL:https://www.ttvpapendrecht.nl/event/bar-guido-houwing/
LOCATION:TTV Papendrecht\, Pieter Zeemanlaan 39\, Papendrecht\, 3356 BR
CATEGORIES:Bardienst
END:VEVENT
BEGIN:VEVENT
DTSTART;TZID=Europe/Paris:20260316T200000
DTEND;TZID=Europe/Paris:20260316T233000
DTSTAMP:20260420T133541
CREATED:20260129T145922Z
LAST-MODIFIED:20260129T234407Z
UID:2196-1773691200-1773703800@www.ttvpapendrecht.nl
SUMMARY:PITT '75 2 - PAPENDRECHT 3 DUO
DESCRIPTION:
URL:https://www.ttvpapendrecht.nl/event/pitt-75-2-papendrecht-3-duo-2026-03-16/
LOCATION:PITT ’75\, Lijstersingel 20\, CAPELLE AAN DEN IJSSEL\, 2902 JD
CATEGORIES:Competitie,Senioren Duo 3,Uitwedstrijden
END:VEVENT
BEGIN:VEVENT
DTSTART;TZID=Europe/Paris:20260316T190000
DTEND;TZID=Europe/Paris:20260316T210000
DTSTAMP:20260420T133541
CREATED:20260129T155732Z
LAST-MODIFIED:20260129T210211Z
UID:2195-1773687600-1773694800@www.ttvpapendrecht.nl
SUMMARY:Naomie's Haakhoekje
DESCRIPTION:
URL:https://www.ttvpapendrecht.nl/event/naomies-haakhoekje-2026-03-16/
LOCATION:TTV Papendrecht\, Pieter Zeemanlaan 39\, Papendrecht\, 3356 BR
CATEGORIES:Sociaal
END:VEVENT
BEGIN:VEVENT
DTSTART;TZID=Europe/Paris:20260314T110000
DTEND;TZID=Europe/Paris:20260314T143000
DTSTAMP:20260420T133541
CREATED:20260129T145922Z
LAST-MODIFIED:20260129T223958Z
UID:2194-1773486000-1773498600@www.ttvpapendrecht.nl
SUMMARY:jeugd: De Sprint 1 - PAPENDRECHT 1
DESCRIPTION:
URL:https://www.ttvpapendrecht.nl/event/jeugd-de-sprint-1-papendrecht-1-2026-03-14/
LOCATION:TTV De Sprint\, De Rik 22-B\, Brielle\, 3232 LA
CATEGORIES:Competitie,Jeugd 1,Uitwedstrijden
END:VEVENT
BEGIN:VEVENT
DTSTART;TZID=Europe/Paris:20260313T201500
DTEND;TZID=Europe/Paris:20260313T234500
DTSTAMP:20260420T133541
CREATED:20260129T145922Z
LAST-MODIFIED:20260129T234549Z
UID:2190-1773432900-1773445500@www.ttvpapendrecht.nl
SUMMARY:Dordrecht 2 - PAPENDRECHT 1
DESCRIPTION:
URL:https://www.ttvpapendrecht.nl/event/dordrecht-2-papendrecht-1-2026-03-13/
LOCATION:TTV Dordrecht – Sportpark Corridor\, Visserstuin 7\, DORDRECHT\, 3319 LL
CATEGORIES:Competitie,Senioren 1,Uitwedstrijden
END:VEVENT
BEGIN:VEVENT
DTSTART;TZID=Europe/Paris:20260313T200000
DTEND;TZID=Europe/Paris:20260313T233000
DTSTAMP:20260420T133541
CREATED:20260129T155742Z
LAST-MODIFIED:20260129T210210Z
UID:2191-1773432000-1773444600@www.ttvpapendrecht.nl
SUMMARY:Vrije training (senioren)
DESCRIPTION:
URL:https://www.ttvpapendrecht.nl/event/vrije-training-senioren-2026-03-13/
LOCATION:TTV Papendrecht\, Pieter Zeemanlaan 39\, Papendrecht\, 3356 BR
CATEGORIES:Training
END:VEVENT
BEGIN:VEVENT
DTSTART;TZID=Europe/Paris:20260313T200000
DTEND;TZID=Europe/Paris:20260313T233000
DTSTAMP:20260420T133541
CREATED:20260129T145922Z
LAST-MODIFIED:20260129T234655Z
UID:2192-1773432000-1773444600@www.ttvpapendrecht.nl
SUMMARY:PAPENDRECHT 3 - Kwiek 1
DESCRIPTION:
URL:https://www.ttvpapendrecht.nl/event/papendrecht-3-kwiek-1-2026-03-13/
LOCATION:TTV Papendrecht\, Pieter Zeemanlaan 39\, Papendrecht\, 3356 BR
CATEGORIES:Competitie,Senioren 3,Thuiswedstrijden
END:VEVENT
BEGIN:VEVENT
DTSTART;TZID=Europe/Paris:20260313T200000
DTEND;TZID=Europe/Paris:20260313T233000
DTSTAMP:20260420T133541
CREATED:20260129T145922Z
LAST-MODIFIED:20260129T234720Z
UID:2193-1773432000-1773444600@www.ttvpapendrecht.nl
SUMMARY:PAPENDRECHT 4 - PITT '75 8
DESCRIPTION:
URL:https://www.ttvpapendrecht.nl/event/papendrecht-4-pitt-75-8-2026-03-13/
LOCATION:TTV Papendrecht\, Pieter Zeemanlaan 39\, Papendrecht\, 3356 BR
CATEGORIES:Competitie,Senioren 4,Thuiswedstrijden
END:VEVENT
BEGIN:VEVENT
DTSTART;TZID=Europe/Paris:20260313T000000
DTEND;TZID=Europe/Paris:20260313T235959
DTSTAMP:20260420T133541
CREATED:20260204T002910Z
LAST-MODIFIED:20260204T002910Z
UID:3625-1773360000-1773446399@www.ttvpapendrecht.nl
SUMMARY:Bar - Kitty Devilee
DESCRIPTION:
URL:https://www.ttvpapendrecht.nl/event/bar-kitty-devilee/
LOCATION:TTV Papendrecht\, Pieter Zeemanlaan 39\, Papendrecht\, 3356 BR
CATEGORIES:Bardienst
END:VEVENT
BEGIN:VEVENT
DTSTART;TZID=Europe/Paris:20260312T193000
DTEND;TZID=Europe/Paris:20260312T230000
DTSTAMP:20260420T133541
CREATED:20260129T145922Z
LAST-MODIFIED:20260129T234425Z
UID:2188-1773343800-1773356400@www.ttvpapendrecht.nl
SUMMARY:Merwestad 2 - PAPENDRECHT 4 DUO
DESCRIPTION:
URL:https://www.ttvpapendrecht.nl/event/merwestad-2-papendrecht-4-duo-2026-03-12/
LOCATION:TTV Merwestad\, Maria Montessorilaan 3\, DORDRECHT\, 3312 KJ
CATEGORIES:Competitie,Senioren Duo 4,Uitwedstrijden
END:VEVENT
BEGIN:VEVENT
DTSTART;TZID=Europe/Paris:20260312T193000
DTEND;TZID=Europe/Paris:20260312T203000
DTSTAMP:20260420T133541
CREATED:20260129T155742Z
LAST-MODIFIED:20260130T233210Z
UID:2189-1773343800-1773347400@www.ttvpapendrecht.nl
SUMMARY:Jeugdtraining (Joël Scheurwater) - groep 1
DESCRIPTION:
URL:https://www.ttvpapendrecht.nl/event/jeugdtraining-joel-scheurwater-2026-03-12/
LOCATION:TTV Papendrecht\, Pieter Zeemanlaan 39\, Papendrecht\, 3356 BR
CATEGORIES:Training
END:VEVENT
BEGIN:VEVENT
DTSTART;TZID=Europe/Paris:20260312T183000
DTEND;TZID=Europe/Paris:20260312T193000
DTSTAMP:20260420T133541
CREATED:20260130T233533Z
LAST-MODIFIED:20260130T233534Z
UID:3454-1773340200-1773343800@www.ttvpapendrecht.nl
SUMMARY:Jeugdtraining (Joël Scheurwater) - groep 2
DESCRIPTION:
URL:https://www.ttvpapendrecht.nl/event/jeugdtraining-joel-scheurwater-groep-2-5/
LOCATION:TTV Papendrecht\, Pieter Zeemanlaan 39\, Papendrecht\, 3356 BR
CATEGORIES:Training
END:VEVENT
END:VCALENDAR