BEGIN:VCALENDAR
VERSION:2.0
PRODID:-//TTV Papendrecht - ECPv6.15.20//NONSGML v1.0//EN
CALSCALE:GREGORIAN
METHOD:PUBLISH
X-WR-CALNAME:TTV Papendrecht
X-ORIGINAL-URL:https://www.ttvpapendrecht.nl
X-WR-CALDESC:Evenementen voor TTV Papendrecht
REFRESH-INTERVAL;VALUE=DURATION:PT1H
X-Robots-Tag:noindex
X-PUBLISHED-TTL:PT1H
BEGIN:VTIMEZONE
TZID:Europe/Paris
BEGIN:DAYLIGHT
TZOFFSETFROM:+0100
TZOFFSETTO:+0200
TZNAME:CEST
DTSTART:20250330T010000
END:DAYLIGHT
BEGIN:STANDARD
TZOFFSETFROM:+0200
TZOFFSETTO:+0100
TZNAME:CET
DTSTART:20251026T010000
END:STANDARD
BEGIN:DAYLIGHT
TZOFFSETFROM:+0100
TZOFFSETTO:+0200
TZNAME:CEST
DTSTART:20260329T010000
END:DAYLIGHT
BEGIN:STANDARD
TZOFFSETFROM:+0200
TZOFFSETTO:+0100
TZNAME:CET
DTSTART:20261025T010000
END:STANDARD
BEGIN:DAYLIGHT
TZOFFSETFROM:+0100
TZOFFSETTO:+0200
TZNAME:CEST
DTSTART:20270328T010000
END:DAYLIGHT
BEGIN:STANDARD
TZOFFSETFROM:+0200
TZOFFSETTO:+0100
TZNAME:CET
DTSTART:20271031T010000
END:STANDARD
END:VTIMEZONE
BEGIN:VEVENT
DTSTART;TZID=Europe/Paris:20260102T200000
DTEND;TZID=Europe/Paris:20260102T233000
DTSTAMP:20260423T104754
CREATED:20260102T190000Z
LAST-MODIFIED:20260129T160551Z
UID:2092-1767384000-1767396600@www.ttvpapendrecht.nl
SUMMARY:Vrije training (senioren)
DESCRIPTION:
URL:https://www.ttvpapendrecht.nl/event/vrije-training-senioren-2026-01-02/
LOCATION:TTV Papendrecht\, Pieter Zeemanlaan 39\, Papendrecht\, 3356 BR
CATEGORIES:Training
END:VEVENT
BEGIN:VEVENT
DTSTART;TZID=Europe/Paris:20260101T000000
DTEND;TZID=Europe/Paris:20260101T235959
DTSTAMP:20260423T104754
CREATED:20251231T230000Z
LAST-MODIFIED:20260129T160450Z
UID:2091-1767225600-1767311999@www.ttvpapendrecht.nl
SUMMARY:Nieuwjaarsdag
DESCRIPTION:
URL:https://www.ttvpapendrecht.nl/event/nieuwjaarsdag-2026-01-01/
LOCATION:TTV Papendrecht\, Pieter Zeemanlaan 39\, Papendrecht\, 3356 BR
CATEGORIES:Feestdag
END:VEVENT
END:VCALENDAR