BEGIN:VCALENDAR
VERSION:2.0
PRODID:-//TTV Papendrecht - ECPv6.15.20//NONSGML v1.0//EN
CALSCALE:GREGORIAN
METHOD:PUBLISH
X-WR-CALNAME:TTV Papendrecht
X-ORIGINAL-URL:https://www.ttvpapendrecht.nl
X-WR-CALDESC:Evenementen voor TTV Papendrecht
REFRESH-INTERVAL;VALUE=DURATION:PT1H
X-Robots-Tag:noindex
X-PUBLISHED-TTL:PT1H
BEGIN:VTIMEZONE
TZID:Europe/Paris
BEGIN:DAYLIGHT
TZOFFSETFROM:+0100
TZOFFSETTO:+0200
TZNAME:CEST
DTSTART:20250330T010000
END:DAYLIGHT
BEGIN:STANDARD
TZOFFSETFROM:+0200
TZOFFSETTO:+0100
TZNAME:CET
DTSTART:20251026T010000
END:STANDARD
BEGIN:DAYLIGHT
TZOFFSETFROM:+0100
TZOFFSETTO:+0200
TZNAME:CEST
DTSTART:20260329T010000
END:DAYLIGHT
BEGIN:STANDARD
TZOFFSETFROM:+0200
TZOFFSETTO:+0100
TZNAME:CET
DTSTART:20261025T010000
END:STANDARD
BEGIN:DAYLIGHT
TZOFFSETFROM:+0100
TZOFFSETTO:+0200
TZNAME:CEST
DTSTART:20270328T010000
END:DAYLIGHT
BEGIN:STANDARD
TZOFFSETFROM:+0200
TZOFFSETTO:+0100
TZNAME:CET
DTSTART:20271031T010000
END:STANDARD
END:VTIMEZONE
BEGIN:VEVENT
DTSTART;TZID=Europe/Paris:20260828T203000
DTEND;TZID=Europe/Paris:20260828T223000
DTSTAMP:20260421T071534
CREATED:20260129T155611Z
LAST-MODIFIED:20260129T213059Z
UID:2327-1787949000-1787956200@www.ttvpapendrecht.nl
SUMMARY:Zaal open voor training senioren en oudere jeugd (20:30 uur - 22:30 uur)
DESCRIPTION:
URL:https://www.ttvpapendrecht.nl/event/zaal-open-voor-training-senioren-en-oudere-jeugd-2030-uur-2230-uur-2026-08-28/
LOCATION:TTV Papendrecht\, Pieter Zeemanlaan 39\, Papendrecht\, 3356 BR
CATEGORIES:Zomertijd
END:VEVENT
BEGIN:VEVENT
DTSTART;TZID=Europe/Paris:20260901T180000
DTEND;TZID=Europe/Paris:20260901T233000
DTSTAMP:20260421T071534
CREATED:20260129T155611Z
LAST-MODIFIED:20260129T213059Z
UID:2328-1788285600-1788305400@www.ttvpapendrecht.nl
SUMMARY:Seizoensopening + kraam Game 11 (ovb)
DESCRIPTION:
URL:https://www.ttvpapendrecht.nl/event/seizoensopening-kraam-game-11-ovb-2026-09-01/
LOCATION:TTV Papendrecht\, Pieter Zeemanlaan 39\, Papendrecht\, 3356 BR
CATEGORIES:Overig
END:VEVENT
BEGIN:VEVENT
DTSTART;TZID=Europe/Paris:20260909T200000
DTEND;TZID=Europe/Paris:20260909T233000
DTSTAMP:20260421T071534
CREATED:20260129T155611Z
LAST-MODIFIED:20260129T223226Z
UID:2329-1788984000-1788996600@www.ttvpapendrecht.nl
SUMMARY:Klaverjassen
DESCRIPTION:
URL:https://www.ttvpapendrecht.nl/event/klaverjassen-2026-09-09/
LOCATION:TTV Papendrecht\, Pieter Zeemanlaan 39\, Papendrecht\, 3356 BR
CATEGORIES:Klaverjassen,Sociaal
END:VEVENT
BEGIN:VEVENT
DTSTART;TZID=Europe/Paris:20260930T200000
DTEND;TZID=Europe/Paris:20260930T233000
DTSTAMP:20260421T071534
CREATED:20260129T155611Z
LAST-MODIFIED:20260129T223226Z
UID:2330-1790798400-1790811000@www.ttvpapendrecht.nl
SUMMARY:Klaverjassen
DESCRIPTION:
URL:https://www.ttvpapendrecht.nl/event/klaverjassen-2026-09-30/
LOCATION:TTV Papendrecht\, Pieter Zeemanlaan 39\, Papendrecht\, 3356 BR
CATEGORIES:Klaverjassen,Sociaal
END:VEVENT
BEGIN:VEVENT
DTSTART;TZID=Europe/Paris:20261021T200000
DTEND;TZID=Europe/Paris:20261021T233000
DTSTAMP:20260421T071534
CREATED:20260129T155611Z
LAST-MODIFIED:20260129T223226Z
UID:2331-1792612800-1792625400@www.ttvpapendrecht.nl
SUMMARY:Klaverjassen
DESCRIPTION:
URL:https://www.ttvpapendrecht.nl/event/klaverjassen-2026-10-21/
LOCATION:TTV Papendrecht\, Pieter Zeemanlaan 39\, Papendrecht\, 3356 BR
CATEGORIES:Klaverjassen,Sociaal
END:VEVENT
BEGIN:VEVENT
DTSTART;TZID=Europe/Paris:20261111T200000
DTEND;TZID=Europe/Paris:20261111T233000
DTSTAMP:20260421T071534
CREATED:20260129T155611Z
LAST-MODIFIED:20260129T223226Z
UID:2332-1794427200-1794439800@www.ttvpapendrecht.nl
SUMMARY:Klaverjassen
DESCRIPTION:
URL:https://www.ttvpapendrecht.nl/event/klaverjassen-2026-11-11/
LOCATION:TTV Papendrecht\, Pieter Zeemanlaan 39\, Papendrecht\, 3356 BR
CATEGORIES:Klaverjassen,Sociaal
END:VEVENT
BEGIN:VEVENT
DTSTART;TZID=Europe/Paris:20261202T200000
DTEND;TZID=Europe/Paris:20261202T233000
DTSTAMP:20260421T071534
CREATED:20260129T155611Z
LAST-MODIFIED:20260129T223226Z
UID:2333-1796241600-1796254200@www.ttvpapendrecht.nl
SUMMARY:Klaverjassen
DESCRIPTION:
URL:https://www.ttvpapendrecht.nl/event/klaverjassen-2026-12-02/
LOCATION:TTV Papendrecht\, Pieter Zeemanlaan 39\, Papendrecht\, 3356 BR
CATEGORIES:Klaverjassen,Sociaal
END:VEVENT
BEGIN:VEVENT
DTSTART;TZID=Europe/Paris:20261223T200000
DTEND;TZID=Europe/Paris:20261223T233000
DTSTAMP:20260421T071534
CREATED:20260129T155611Z
LAST-MODIFIED:20260129T223226Z
UID:2334-1798056000-1798068600@www.ttvpapendrecht.nl
SUMMARY:Klaverjassen
DESCRIPTION:
URL:https://www.ttvpapendrecht.nl/event/klaverjassen-2026-12-23/
LOCATION:TTV Papendrecht\, Pieter Zeemanlaan 39\, Papendrecht\, 3356 BR
CATEGORIES:Klaverjassen,Sociaal
END:VEVENT
BEGIN:VEVENT
DTSTART;TZID=Europe/Paris:20261225T000000
DTEND;TZID=Europe/Paris:20261225T235959
DTSTAMP:20260421T071534
CREATED:20260129T155611Z
LAST-MODIFIED:20260129T155611Z
UID:371-1798156800-1798243199@www.ttvpapendrecht.nl
SUMMARY:1e Kerstdag
DESCRIPTION:
URL:https://www.ttvpapendrecht.nl/event/1e-kerstdag-2026-12-25/
CATEGORIES:Feestdag
END:VEVENT
BEGIN:VEVENT
DTSTART;TZID=Europe/Paris:20261226T000000
DTEND;TZID=Europe/Paris:20261226T235959
DTSTAMP:20260421T071534
CREATED:20260129T155611Z
LAST-MODIFIED:20260129T155611Z
UID:2335-1798243200-1798329599@www.ttvpapendrecht.nl
SUMMARY:2e Kerstdag
DESCRIPTION:
URL:https://www.ttvpapendrecht.nl/event/2e-kerstdag-2026-12-26/
CATEGORIES:Feestdag
END:VEVENT
END:VCALENDAR